BEGIN:VCALENDAR
VERSION:2.0
PRODID:-//James B. Moran Center for Youth Advocacy - ECPv6.15.18//NONSGML v1.0//EN
CALSCALE:GREGORIAN
METHOD:PUBLISH
X-WR-CALNAME:James B. Moran Center for Youth Advocacy
X-ORIGINAL-URL:https://moran-center.org
X-WR-CALDESC:Events for James B. Moran Center for Youth Advocacy
REFRESH-INTERVAL;VALUE=DURATION:PT1H
X-Robots-Tag:noindex
X-PUBLISHED-TTL:PT1H
BEGIN:VTIMEZONE
TZID:America/Chicago
BEGIN:DAYLIGHT
TZOFFSETFROM:-0600
TZOFFSETTO:-0500
TZNAME:CDT
DTSTART:20250309T080000
END:DAYLIGHT
BEGIN:STANDARD
TZOFFSETFROM:-0500
TZOFFSETTO:-0600
TZNAME:CST
DTSTART:20251102T070000
END:STANDARD
BEGIN:DAYLIGHT
TZOFFSETFROM:-0600
TZOFFSETTO:-0500
TZNAME:CDT
DTSTART:20260308T080000
END:DAYLIGHT
BEGIN:STANDARD
TZOFFSETFROM:-0500
TZOFFSETTO:-0600
TZNAME:CST
DTSTART:20261101T070000
END:STANDARD
BEGIN:DAYLIGHT
TZOFFSETFROM:-0600
TZOFFSETTO:-0500
TZNAME:CDT
DTSTART:20270314T080000
END:DAYLIGHT
BEGIN:STANDARD
TZOFFSETFROM:-0500
TZOFFSETTO:-0600
TZNAME:CST
DTSTART:20271107T070000
END:STANDARD
END:VTIMEZONE
BEGIN:VEVENT
DTSTART;TZID=America/Chicago:20260421T100000
DTEND;TZID=America/Chicago:20260421T120000
DTSTAMP:20260420T100843
CREATED:20260407T175904Z
LAST-MODIFIED:20260407T175907Z
UID:10000022-1776765600-1776772800@moran-center.org
SUMMARY:Expungement & Sealing Help Desk
DESCRIPTION:Tom Verdun Memorial Expungement & Sealing Help Desk\n\n\n\nThe Moran Center’s Tom Verdun Memorial Expungement & Sealing Help Desk is available at Skokie Courthouse weekly to provide record relief assistance.
URL:https://moran-center.org/event/event-helpdesk/2026-04-21/
LOCATION:Skokie Courthouse\, 5600 Old Orchard Road\, Skokie\, Illinois\, 60077\, United States
ATTACH;FMTTYPE=image/png:https://moran-center.org/wp-content/uploads/2025/08/background-check.png
END:VEVENT
BEGIN:VEVENT
DTSTART;TZID=America/Chicago:20260428T100000
DTEND;TZID=America/Chicago:20260428T120000
DTSTAMP:20260420T100843
CREATED:20260407T175904Z
LAST-MODIFIED:20260407T175907Z
UID:10000023-1777370400-1777377600@moran-center.org
SUMMARY:Expungement & Sealing Help Desk
DESCRIPTION:Tom Verdun Memorial Expungement & Sealing Help Desk\n\n\n\nThe Moran Center’s Tom Verdun Memorial Expungement & Sealing Help Desk is available at Skokie Courthouse weekly to provide record relief assistance.
URL:https://moran-center.org/event/event-helpdesk/2026-04-28/
LOCATION:Skokie Courthouse\, 5600 Old Orchard Road\, Skokie\, Illinois\, 60077\, United States
ATTACH;FMTTYPE=image/png:https://moran-center.org/wp-content/uploads/2025/08/background-check.png
END:VEVENT
BEGIN:VEVENT
DTSTART;TZID=America/Chicago:20260505T100000
DTEND;TZID=America/Chicago:20260505T120000
DTSTAMP:20260420T100843
CREATED:20260407T175904Z
LAST-MODIFIED:20260407T175907Z
UID:10000024-1777975200-1777982400@moran-center.org
SUMMARY:Expungement & Sealing Help Desk
DESCRIPTION:Tom Verdun Memorial Expungement & Sealing Help Desk\n\n\n\nThe Moran Center’s Tom Verdun Memorial Expungement & Sealing Help Desk is available at Skokie Courthouse weekly to provide record relief assistance.
URL:https://moran-center.org/event/event-helpdesk/2026-05-05/
LOCATION:Skokie Courthouse\, 5600 Old Orchard Road\, Skokie\, Illinois\, 60077\, United States
ATTACH;FMTTYPE=image/png:https://moran-center.org/wp-content/uploads/2025/08/background-check.png
END:VEVENT
BEGIN:VEVENT
DTSTART;TZID=America/Chicago:20260512T100000
DTEND;TZID=America/Chicago:20260512T120000
DTSTAMP:20260420T100843
CREATED:20260407T175904Z
LAST-MODIFIED:20260407T175907Z
UID:10000025-1778580000-1778587200@moran-center.org
SUMMARY:Expungement & Sealing Help Desk
DESCRIPTION:Tom Verdun Memorial Expungement & Sealing Help Desk\n\n\n\nThe Moran Center’s Tom Verdun Memorial Expungement & Sealing Help Desk is available at Skokie Courthouse weekly to provide record relief assistance.
URL:https://moran-center.org/event/event-helpdesk/2026-05-12/
LOCATION:Skokie Courthouse\, 5600 Old Orchard Road\, Skokie\, Illinois\, 60077\, United States
ATTACH;FMTTYPE=image/png:https://moran-center.org/wp-content/uploads/2025/08/background-check.png
END:VEVENT
BEGIN:VEVENT
DTSTART;TZID=America/Chicago:20260519T100000
DTEND;TZID=America/Chicago:20260519T120000
DTSTAMP:20260420T100843
CREATED:20260407T175904Z
LAST-MODIFIED:20260407T175907Z
UID:10000026-1779184800-1779192000@moran-center.org
SUMMARY:Expungement & Sealing Help Desk
DESCRIPTION:Tom Verdun Memorial Expungement & Sealing Help Desk\n\n\n\nThe Moran Center’s Tom Verdun Memorial Expungement & Sealing Help Desk is available at Skokie Courthouse weekly to provide record relief assistance.
URL:https://moran-center.org/event/event-helpdesk/2026-05-19/
LOCATION:Skokie Courthouse\, 5600 Old Orchard Road\, Skokie\, Illinois\, 60077\, United States
ATTACH;FMTTYPE=image/png:https://moran-center.org/wp-content/uploads/2025/08/background-check.png
END:VEVENT
BEGIN:VEVENT
DTSTART;TZID=America/Chicago:20260526T100000
DTEND;TZID=America/Chicago:20260526T120000
DTSTAMP:20260420T100843
CREATED:20260407T175904Z
LAST-MODIFIED:20260407T175907Z
UID:10000027-1779789600-1779796800@moran-center.org
SUMMARY:Expungement & Sealing Help Desk
DESCRIPTION:Tom Verdun Memorial Expungement & Sealing Help Desk\n\n\n\nThe Moran Center’s Tom Verdun Memorial Expungement & Sealing Help Desk is available at Skokie Courthouse weekly to provide record relief assistance.
URL:https://moran-center.org/event/event-helpdesk/2026-05-26/
LOCATION:Skokie Courthouse\, 5600 Old Orchard Road\, Skokie\, Illinois\, 60077\, United States
ATTACH;FMTTYPE=image/png:https://moran-center.org/wp-content/uploads/2025/08/background-check.png
END:VEVENT
BEGIN:VEVENT
DTSTART;TZID=America/Chicago:20260602T100000
DTEND;TZID=America/Chicago:20260602T120000
DTSTAMP:20260420T100843
CREATED:20260407T175904Z
LAST-MODIFIED:20260407T175907Z
UID:10000028-1780394400-1780401600@moran-center.org
SUMMARY:Expungement & Sealing Help Desk
DESCRIPTION:Tom Verdun Memorial Expungement & Sealing Help Desk\n\n\n\nThe Moran Center’s Tom Verdun Memorial Expungement & Sealing Help Desk is available at Skokie Courthouse weekly to provide record relief assistance.
URL:https://moran-center.org/event/event-helpdesk/2026-06-02/
LOCATION:Skokie Courthouse\, 5600 Old Orchard Road\, Skokie\, Illinois\, 60077\, United States
ATTACH;FMTTYPE=image/png:https://moran-center.org/wp-content/uploads/2025/08/background-check.png
END:VEVENT
BEGIN:VEVENT
DTSTART;TZID=America/Chicago:20260609T100000
DTEND;TZID=America/Chicago:20260609T120000
DTSTAMP:20260420T100843
CREATED:20260407T175904Z
LAST-MODIFIED:20260407T175907Z
UID:10000029-1780999200-1781006400@moran-center.org
SUMMARY:Expungement & Sealing Help Desk
DESCRIPTION:Tom Verdun Memorial Expungement & Sealing Help Desk\n\n\n\nThe Moran Center’s Tom Verdun Memorial Expungement & Sealing Help Desk is available at Skokie Courthouse weekly to provide record relief assistance.
URL:https://moran-center.org/event/event-helpdesk/2026-06-09/
LOCATION:Skokie Courthouse\, 5600 Old Orchard Road\, Skokie\, Illinois\, 60077\, United States
ATTACH;FMTTYPE=image/png:https://moran-center.org/wp-content/uploads/2025/08/background-check.png
END:VEVENT
BEGIN:VEVENT
DTSTART;TZID=America/Chicago:20260616T100000
DTEND;TZID=America/Chicago:20260616T120000
DTSTAMP:20260420T100843
CREATED:20260407T175904Z
LAST-MODIFIED:20260407T175907Z
UID:10000030-1781604000-1781611200@moran-center.org
SUMMARY:Expungement & Sealing Help Desk
DESCRIPTION:Tom Verdun Memorial Expungement & Sealing Help Desk\n\n\n\nThe Moran Center’s Tom Verdun Memorial Expungement & Sealing Help Desk is available at Skokie Courthouse weekly to provide record relief assistance.
URL:https://moran-center.org/event/event-helpdesk/2026-06-16/
LOCATION:Skokie Courthouse\, 5600 Old Orchard Road\, Skokie\, Illinois\, 60077\, United States
ATTACH;FMTTYPE=image/png:https://moran-center.org/wp-content/uploads/2025/08/background-check.png
END:VEVENT
BEGIN:VEVENT
DTSTART;TZID=America/Chicago:20260623T100000
DTEND;TZID=America/Chicago:20260623T120000
DTSTAMP:20260420T100843
CREATED:20260407T175904Z
LAST-MODIFIED:20260407T175907Z
UID:10000031-1782208800-1782216000@moran-center.org
SUMMARY:Expungement & Sealing Help Desk
DESCRIPTION:Tom Verdun Memorial Expungement & Sealing Help Desk\n\n\n\nThe Moran Center’s Tom Verdun Memorial Expungement & Sealing Help Desk is available at Skokie Courthouse weekly to provide record relief assistance.
URL:https://moran-center.org/event/event-helpdesk/2026-06-23/
LOCATION:Skokie Courthouse\, 5600 Old Orchard Road\, Skokie\, Illinois\, 60077\, United States
ATTACH;FMTTYPE=image/png:https://moran-center.org/wp-content/uploads/2025/08/background-check.png
END:VEVENT
BEGIN:VEVENT
DTSTART;TZID=America/Chicago:20260630T100000
DTEND;TZID=America/Chicago:20260630T120000
DTSTAMP:20260420T100843
CREATED:20260407T175904Z
LAST-MODIFIED:20260407T175907Z
UID:10000032-1782813600-1782820800@moran-center.org
SUMMARY:Expungement & Sealing Help Desk
DESCRIPTION:Tom Verdun Memorial Expungement & Sealing Help Desk\n\n\n\nThe Moran Center’s Tom Verdun Memorial Expungement & Sealing Help Desk is available at Skokie Courthouse weekly to provide record relief assistance.
URL:https://moran-center.org/event/event-helpdesk/2026-06-30/
LOCATION:Skokie Courthouse\, 5600 Old Orchard Road\, Skokie\, Illinois\, 60077\, United States
ATTACH;FMTTYPE=image/png:https://moran-center.org/wp-content/uploads/2025/08/background-check.png
END:VEVENT
BEGIN:VEVENT
DTSTART;TZID=America/Chicago:20260707T100000
DTEND;TZID=America/Chicago:20260707T120000
DTSTAMP:20260420T100843
CREATED:20260407T175904Z
LAST-MODIFIED:20260407T175907Z
UID:10000033-1783418400-1783425600@moran-center.org
SUMMARY:Expungement & Sealing Help Desk
DESCRIPTION:Tom Verdun Memorial Expungement & Sealing Help Desk\n\n\n\nThe Moran Center’s Tom Verdun Memorial Expungement & Sealing Help Desk is available at Skokie Courthouse weekly to provide record relief assistance.
URL:https://moran-center.org/event/event-helpdesk/2026-07-07/
LOCATION:Skokie Courthouse\, 5600 Old Orchard Road\, Skokie\, Illinois\, 60077\, United States
ATTACH;FMTTYPE=image/png:https://moran-center.org/wp-content/uploads/2025/08/background-check.png
END:VEVENT
BEGIN:VEVENT
DTSTART;TZID=America/Chicago:20260714T100000
DTEND;TZID=America/Chicago:20260714T120000
DTSTAMP:20260420T100843
CREATED:20260407T175904Z
LAST-MODIFIED:20260407T175907Z
UID:10000034-1784023200-1784030400@moran-center.org
SUMMARY:Expungement & Sealing Help Desk
DESCRIPTION:Tom Verdun Memorial Expungement & Sealing Help Desk\n\n\n\nThe Moran Center’s Tom Verdun Memorial Expungement & Sealing Help Desk is available at Skokie Courthouse weekly to provide record relief assistance.
URL:https://moran-center.org/event/event-helpdesk/2026-07-14/
LOCATION:Skokie Courthouse\, 5600 Old Orchard Road\, Skokie\, Illinois\, 60077\, United States
ATTACH;FMTTYPE=image/png:https://moran-center.org/wp-content/uploads/2025/08/background-check.png
END:VEVENT
BEGIN:VEVENT
DTSTART;TZID=America/Chicago:20260721T100000
DTEND;TZID=America/Chicago:20260721T120000
DTSTAMP:20260420T100843
CREATED:20260407T175904Z
LAST-MODIFIED:20260407T175907Z
UID:10000035-1784628000-1784635200@moran-center.org
SUMMARY:Expungement & Sealing Help Desk
DESCRIPTION:Tom Verdun Memorial Expungement & Sealing Help Desk\n\n\n\nThe Moran Center’s Tom Verdun Memorial Expungement & Sealing Help Desk is available at Skokie Courthouse weekly to provide record relief assistance.
URL:https://moran-center.org/event/event-helpdesk/2026-07-21/
LOCATION:Skokie Courthouse\, 5600 Old Orchard Road\, Skokie\, Illinois\, 60077\, United States
ATTACH;FMTTYPE=image/png:https://moran-center.org/wp-content/uploads/2025/08/background-check.png
END:VEVENT
BEGIN:VEVENT
DTSTART;TZID=America/Chicago:20260728T100000
DTEND;TZID=America/Chicago:20260728T120000
DTSTAMP:20260420T100843
CREATED:20260407T175904Z
LAST-MODIFIED:20260407T175907Z
UID:10000036-1785232800-1785240000@moran-center.org
SUMMARY:Expungement & Sealing Help Desk
DESCRIPTION:Tom Verdun Memorial Expungement & Sealing Help Desk\n\n\n\nThe Moran Center’s Tom Verdun Memorial Expungement & Sealing Help Desk is available at Skokie Courthouse weekly to provide record relief assistance.
URL:https://moran-center.org/event/event-helpdesk/2026-07-28/
LOCATION:Skokie Courthouse\, 5600 Old Orchard Road\, Skokie\, Illinois\, 60077\, United States
ATTACH;FMTTYPE=image/png:https://moran-center.org/wp-content/uploads/2025/08/background-check.png
END:VEVENT
BEGIN:VEVENT
DTSTART;TZID=America/Chicago:20260804T100000
DTEND;TZID=America/Chicago:20260804T120000
DTSTAMP:20260420T100843
CREATED:20260407T175904Z
LAST-MODIFIED:20260407T175907Z
UID:10000037-1785837600-1785844800@moran-center.org
SUMMARY:Expungement & Sealing Help Desk
DESCRIPTION:Tom Verdun Memorial Expungement & Sealing Help Desk\n\n\n\nThe Moran Center’s Tom Verdun Memorial Expungement & Sealing Help Desk is available at Skokie Courthouse weekly to provide record relief assistance.
URL:https://moran-center.org/event/event-helpdesk/2026-08-04/
LOCATION:Skokie Courthouse\, 5600 Old Orchard Road\, Skokie\, Illinois\, 60077\, United States
ATTACH;FMTTYPE=image/png:https://moran-center.org/wp-content/uploads/2025/08/background-check.png
END:VEVENT
BEGIN:VEVENT
DTSTART;TZID=America/Chicago:20260811T100000
DTEND;TZID=America/Chicago:20260811T120000
DTSTAMP:20260420T100843
CREATED:20260407T175904Z
LAST-MODIFIED:20260407T175907Z
UID:10000038-1786442400-1786449600@moran-center.org
SUMMARY:Expungement & Sealing Help Desk
DESCRIPTION:Tom Verdun Memorial Expungement & Sealing Help Desk\n\n\n\nThe Moran Center’s Tom Verdun Memorial Expungement & Sealing Help Desk is available at Skokie Courthouse weekly to provide record relief assistance.
URL:https://moran-center.org/event/event-helpdesk/2026-08-11/
LOCATION:Skokie Courthouse\, 5600 Old Orchard Road\, Skokie\, Illinois\, 60077\, United States
ATTACH;FMTTYPE=image/png:https://moran-center.org/wp-content/uploads/2025/08/background-check.png
END:VEVENT
BEGIN:VEVENT
DTSTART;TZID=America/Chicago:20260818T100000
DTEND;TZID=America/Chicago:20260818T120000
DTSTAMP:20260420T100843
CREATED:20260407T175904Z
LAST-MODIFIED:20260407T175907Z
UID:10000039-1787047200-1787054400@moran-center.org
SUMMARY:Expungement & Sealing Help Desk
DESCRIPTION:Tom Verdun Memorial Expungement & Sealing Help Desk\n\n\n\nThe Moran Center’s Tom Verdun Memorial Expungement & Sealing Help Desk is available at Skokie Courthouse weekly to provide record relief assistance.
URL:https://moran-center.org/event/event-helpdesk/2026-08-18/
LOCATION:Skokie Courthouse\, 5600 Old Orchard Road\, Skokie\, Illinois\, 60077\, United States
ATTACH;FMTTYPE=image/png:https://moran-center.org/wp-content/uploads/2025/08/background-check.png
END:VEVENT
BEGIN:VEVENT
DTSTART;TZID=America/Chicago:20260825T100000
DTEND;TZID=America/Chicago:20260825T120000
DTSTAMP:20260420T100843
CREATED:20260407T175904Z
LAST-MODIFIED:20260407T175907Z
UID:10000040-1787652000-1787659200@moran-center.org
SUMMARY:Expungement & Sealing Help Desk
DESCRIPTION:Tom Verdun Memorial Expungement & Sealing Help Desk\n\n\n\nThe Moran Center’s Tom Verdun Memorial Expungement & Sealing Help Desk is available at Skokie Courthouse weekly to provide record relief assistance.
URL:https://moran-center.org/event/event-helpdesk/2026-08-25/
LOCATION:Skokie Courthouse\, 5600 Old Orchard Road\, Skokie\, Illinois\, 60077\, United States
ATTACH;FMTTYPE=image/png:https://moran-center.org/wp-content/uploads/2025/08/background-check.png
END:VEVENT
BEGIN:VEVENT
DTSTART;TZID=America/Chicago:20260901T100000
DTEND;TZID=America/Chicago:20260901T120000
DTSTAMP:20260420T100843
CREATED:20260407T175904Z
LAST-MODIFIED:20260407T175907Z
UID:10000041-1788256800-1788264000@moran-center.org
SUMMARY:Expungement & Sealing Help Desk
DESCRIPTION:Tom Verdun Memorial Expungement & Sealing Help Desk\n\n\n\nThe Moran Center’s Tom Verdun Memorial Expungement & Sealing Help Desk is available at Skokie Courthouse weekly to provide record relief assistance.
URL:https://moran-center.org/event/event-helpdesk/2026-09-01/
LOCATION:Skokie Courthouse\, 5600 Old Orchard Road\, Skokie\, Illinois\, 60077\, United States
ATTACH;FMTTYPE=image/png:https://moran-center.org/wp-content/uploads/2025/08/background-check.png
END:VEVENT
BEGIN:VEVENT
DTSTART;TZID=America/Chicago:20260908T100000
DTEND;TZID=America/Chicago:20260908T120000
DTSTAMP:20260420T100843
CREATED:20260407T175904Z
LAST-MODIFIED:20260407T175907Z
UID:10000042-1788861600-1788868800@moran-center.org
SUMMARY:Expungement & Sealing Help Desk
DESCRIPTION:Tom Verdun Memorial Expungement & Sealing Help Desk\n\n\n\nThe Moran Center’s Tom Verdun Memorial Expungement & Sealing Help Desk is available at Skokie Courthouse weekly to provide record relief assistance.
URL:https://moran-center.org/event/event-helpdesk/2026-09-08/
LOCATION:Skokie Courthouse\, 5600 Old Orchard Road\, Skokie\, Illinois\, 60077\, United States
ATTACH;FMTTYPE=image/png:https://moran-center.org/wp-content/uploads/2025/08/background-check.png
END:VEVENT
BEGIN:VEVENT
DTSTART;TZID=America/Chicago:20260915T100000
DTEND;TZID=America/Chicago:20260915T120000
DTSTAMP:20260420T100843
CREATED:20260407T175904Z
LAST-MODIFIED:20260407T175907Z
UID:10000043-1789466400-1789473600@moran-center.org
SUMMARY:Expungement & Sealing Help Desk
DESCRIPTION:Tom Verdun Memorial Expungement & Sealing Help Desk\n\n\n\nThe Moran Center’s Tom Verdun Memorial Expungement & Sealing Help Desk is available at Skokie Courthouse weekly to provide record relief assistance.
URL:https://moran-center.org/event/event-helpdesk/2026-09-15/
LOCATION:Skokie Courthouse\, 5600 Old Orchard Road\, Skokie\, Illinois\, 60077\, United States
ATTACH;FMTTYPE=image/png:https://moran-center.org/wp-content/uploads/2025/08/background-check.png
END:VEVENT
BEGIN:VEVENT
DTSTART;TZID=America/Chicago:20260922T100000
DTEND;TZID=America/Chicago:20260922T120000
DTSTAMP:20260420T100843
CREATED:20260407T175904Z
LAST-MODIFIED:20260407T175907Z
UID:10000044-1790071200-1790078400@moran-center.org
SUMMARY:Expungement & Sealing Help Desk
DESCRIPTION:Tom Verdun Memorial Expungement & Sealing Help Desk\n\n\n\nThe Moran Center’s Tom Verdun Memorial Expungement & Sealing Help Desk is available at Skokie Courthouse weekly to provide record relief assistance.
URL:https://moran-center.org/event/event-helpdesk/2026-09-22/
LOCATION:Skokie Courthouse\, 5600 Old Orchard Road\, Skokie\, Illinois\, 60077\, United States
ATTACH;FMTTYPE=image/png:https://moran-center.org/wp-content/uploads/2025/08/background-check.png
END:VEVENT
BEGIN:VEVENT
DTSTART;TZID=America/Chicago:20260929T100000
DTEND;TZID=America/Chicago:20260929T120000
DTSTAMP:20260420T100843
CREATED:20260407T175904Z
LAST-MODIFIED:20260407T175907Z
UID:10000045-1790676000-1790683200@moran-center.org
SUMMARY:Expungement & Sealing Help Desk
DESCRIPTION:Tom Verdun Memorial Expungement & Sealing Help Desk\n\n\n\nThe Moran Center’s Tom Verdun Memorial Expungement & Sealing Help Desk is available at Skokie Courthouse weekly to provide record relief assistance.
URL:https://moran-center.org/event/event-helpdesk/2026-09-29/
LOCATION:Skokie Courthouse\, 5600 Old Orchard Road\, Skokie\, Illinois\, 60077\, United States
ATTACH;FMTTYPE=image/png:https://moran-center.org/wp-content/uploads/2025/08/background-check.png
END:VEVENT
BEGIN:VEVENT
DTSTART;TZID=America/Chicago:20261006T100000
DTEND;TZID=America/Chicago:20261006T120000
DTSTAMP:20260420T100843
CREATED:20260407T175904Z
LAST-MODIFIED:20260407T175907Z
UID:10000046-1791280800-1791288000@moran-center.org
SUMMARY:Expungement & Sealing Help Desk
DESCRIPTION:Tom Verdun Memorial Expungement & Sealing Help Desk\n\n\n\nThe Moran Center’s Tom Verdun Memorial Expungement & Sealing Help Desk is available at Skokie Courthouse weekly to provide record relief assistance.
URL:https://moran-center.org/event/event-helpdesk/2026-10-06/
LOCATION:Skokie Courthouse\, 5600 Old Orchard Road\, Skokie\, Illinois\, 60077\, United States
ATTACH;FMTTYPE=image/png:https://moran-center.org/wp-content/uploads/2025/08/background-check.png
END:VEVENT
BEGIN:VEVENT
DTSTART;TZID=America/Chicago:20261013T100000
DTEND;TZID=America/Chicago:20261013T120000
DTSTAMP:20260420T100843
CREATED:20260407T175904Z
LAST-MODIFIED:20260407T175907Z
UID:10000047-1791885600-1791892800@moran-center.org
SUMMARY:Expungement & Sealing Help Desk
DESCRIPTION:Tom Verdun Memorial Expungement & Sealing Help Desk\n\n\n\nThe Moran Center’s Tom Verdun Memorial Expungement & Sealing Help Desk is available at Skokie Courthouse weekly to provide record relief assistance.
URL:https://moran-center.org/event/event-helpdesk/2026-10-13/
LOCATION:Skokie Courthouse\, 5600 Old Orchard Road\, Skokie\, Illinois\, 60077\, United States
ATTACH;FMTTYPE=image/png:https://moran-center.org/wp-content/uploads/2025/08/background-check.png
END:VEVENT
BEGIN:VEVENT
DTSTART;TZID=America/Chicago:20261020T100000
DTEND;TZID=America/Chicago:20261020T120000
DTSTAMP:20260420T100843
CREATED:20260407T175904Z
LAST-MODIFIED:20260407T175907Z
UID:10000048-1792490400-1792497600@moran-center.org
SUMMARY:Expungement & Sealing Help Desk
DESCRIPTION:Tom Verdun Memorial Expungement & Sealing Help Desk\n\n\n\nThe Moran Center’s Tom Verdun Memorial Expungement & Sealing Help Desk is available at Skokie Courthouse weekly to provide record relief assistance.
URL:https://moran-center.org/event/event-helpdesk/2026-10-20/
LOCATION:Skokie Courthouse\, 5600 Old Orchard Road\, Skokie\, Illinois\, 60077\, United States
ATTACH;FMTTYPE=image/png:https://moran-center.org/wp-content/uploads/2025/08/background-check.png
END:VEVENT
BEGIN:VEVENT
DTSTART;TZID=America/Chicago:20261027T100000
DTEND;TZID=America/Chicago:20261027T120000
DTSTAMP:20260420T100843
CREATED:20260407T175904Z
LAST-MODIFIED:20260407T175907Z
UID:10000049-1793095200-1793102400@moran-center.org
SUMMARY:Expungement & Sealing Help Desk
DESCRIPTION:Tom Verdun Memorial Expungement & Sealing Help Desk\n\n\n\nThe Moran Center’s Tom Verdun Memorial Expungement & Sealing Help Desk is available at Skokie Courthouse weekly to provide record relief assistance.
URL:https://moran-center.org/event/event-helpdesk/2026-10-27/
LOCATION:Skokie Courthouse\, 5600 Old Orchard Road\, Skokie\, Illinois\, 60077\, United States
ATTACH;FMTTYPE=image/png:https://moran-center.org/wp-content/uploads/2025/08/background-check.png
END:VEVENT
BEGIN:VEVENT
DTSTART;TZID=America/Chicago:20261103T100000
DTEND;TZID=America/Chicago:20261103T120000
DTSTAMP:20260420T100843
CREATED:20260407T175904Z
LAST-MODIFIED:20260407T175907Z
UID:10000050-1793700000-1793707200@moran-center.org
SUMMARY:Expungement & Sealing Help Desk
DESCRIPTION:Tom Verdun Memorial Expungement & Sealing Help Desk\n\n\n\nThe Moran Center’s Tom Verdun Memorial Expungement & Sealing Help Desk is available at Skokie Courthouse weekly to provide record relief assistance.
URL:https://moran-center.org/event/event-helpdesk/2026-11-03/
LOCATION:Skokie Courthouse\, 5600 Old Orchard Road\, Skokie\, Illinois\, 60077\, United States
ATTACH;FMTTYPE=image/png:https://moran-center.org/wp-content/uploads/2025/08/background-check.png
END:VEVENT
BEGIN:VEVENT
DTSTART;TZID=America/Chicago:20261110T100000
DTEND;TZID=America/Chicago:20261110T120000
DTSTAMP:20260420T100843
CREATED:20260407T175904Z
LAST-MODIFIED:20260407T175907Z
UID:10000051-1794304800-1794312000@moran-center.org
SUMMARY:Expungement & Sealing Help Desk
DESCRIPTION:Tom Verdun Memorial Expungement & Sealing Help Desk\n\n\n\nThe Moran Center’s Tom Verdun Memorial Expungement & Sealing Help Desk is available at Skokie Courthouse weekly to provide record relief assistance.
URL:https://moran-center.org/event/event-helpdesk/2026-11-10/
LOCATION:Skokie Courthouse\, 5600 Old Orchard Road\, Skokie\, Illinois\, 60077\, United States
ATTACH;FMTTYPE=image/png:https://moran-center.org/wp-content/uploads/2025/08/background-check.png
END:VEVENT
END:VCALENDAR